BEGIN:VCALENDAR
PRODID:-//Microsoft Corporation//Outlook MIMEDIR//EN
VERSION:2.0
METHOD:PUBLISH
BEGIN:VEVENT
DTSTART:20260421T133000
DTEND:20260421T143000
DESCRIPTION:Meeting Cancelled Next Meeting Scheduled for 5/19/2026 at 1:30 pm
LOCATION:500 Ellinwood Way, Suite 110, Pleasant Hill, CA 94523
SUMMARY:In-Home Supportive Services Public Authority Advisory Committee
CATEGORIES:MEETING
END:VEVENT
END:VCALENDAR
