BEGIN:VCALENDAR
PRODID:-//Microsoft Corporation//Outlook MIMEDIR//EN
VERSION:2.0
METHOD:PUBLISH
BEGIN:VEVENT
DTSTART:20260715T170000
DTEND:20260715T180000
DESCRIPTION:Zoom Link: https://cccounty-us.zoom.us/j/88618441439 Toll-free Telephone: USA 888-278-0254  Conference code: 3149674 Meeting ID: 886 1844 1439
LOCATION:1025 Escobar St, Martinez
SUMMARY:Measure X Community Advisory Board
CATEGORIES:MEETING
END:VEVENT
END:VCALENDAR
