BEGIN:VCALENDAR
PRODID:-//Microsoft Corporation//Outlook MIMEDIR//EN
VERSION:2.0
METHOD:PUBLISH
BEGIN:VEVENT
DTSTART:20260415T110000
DTEND:20260415T120000
DESCRIPTION:Co-Applicant Governing Board
LOCATION:YellowStone Room, 2500 Bates Ave.  St B., Concord, CA 94520 Zoom Webinar – Call In: (646) 518-9805,  ID: 924 0459 4598 Join Online:  https://cchealth.zoom.us/j/92404594598
SUMMARY:Health Care for the Homeless
CATEGORIES:MEETING
END:VEVENT
END:VCALENDAR
