BEGIN:VCALENDAR
PRODID:-//Microsoft Corporation//Outlook MIMEDIR//EN
VERSION:2.0
METHOD:PUBLISH
BEGIN:VEVENT
DTSTART:20260415T130000
DTEND:20260415T140000
DESCRIPTION:Zoom link: https://cccounty-us.zoom.us/j/85291316025 Join via audio: USA 888 278 0254 Meeting ID: 852 9131 6025 / Conference code: 832395
LOCATION:1025 Escobar Street, Martinez, CA 94553  | 3361 Walnut Boulevard, Suite 140, Brentwood, CA 94513
SUMMARY:Legislation Committee
CATEGORIES:MEETING
END:VEVENT
END:VCALENDAR
