BEGIN:VCALENDAR
PRODID:-//Microsoft Corporation//Outlook MIMEDIR//EN
VERSION:2.0
METHOD:PUBLISH
BEGIN:VEVENT
DTSTART:20260416T150000
DTEND:20260416T160000
DESCRIPTION:Diversion subcommittee
LOCATION:1026 Escobar Street #238/239, Martinez, CA 94553 | https://cccounty-us.zoom.us/j/81203506946
SUMMARY:Racial Justice Oversight Body
CATEGORIES:MEETING
END:VEVENT
END:VCALENDAR
