BEGIN:VCALENDAR
PRODID:-//Microsoft Corporation//Outlook MIMEDIR//EN
VERSION:2.0
METHOD:PUBLISH
BEGIN:VEVENT
DTSTART:20260418T100000
DTEND:20260418T110000
DESCRIPTION:This is a Special Meeting of the Commission for Women and Girls
LOCATION:3338 Mt. Diablo Boulevard, Lafayette CA | https://cccounty-us.zoom.us/j/3748270213?omn=85012022541
SUMMARY:Contra Costa Commission for Women and Girls
CATEGORIES:MEETING
END:VEVENT
END:VCALENDAR
