BEGIN:VCALENDAR
PRODID:-//Microsoft Corporation//Outlook MIMEDIR//EN
VERSION:2.0
METHOD:PUBLISH
BEGIN:VEVENT
DTSTART:20260413T130000
DTEND:20260413T140000
DESCRIPTION:Health and Elder Abuse Prevention Committee https://cccounty-us.zoom.us/j/83870526995
LOCATION:500 Ellinwood Way, Pleasant Hill, CA.  Corner Conference Room
SUMMARY:Advisory Council on Aging
CATEGORIES:MEETING
END:VEVENT
END:VCALENDAR
