BEGIN:VCALENDAR
PRODID:-//Microsoft Corporation//Outlook MIMEDIR//EN
VERSION:2.0
METHOD:PUBLISH
BEGIN:VEVENT
DTSTART:20260421T190000
DTEND:20260421T200000
DESCRIPTION:CANCELED
LOCATION:Knightsen Farm Bureau, 3020 Second Street, Knightsen, CA 94548
SUMMARY:Knightsen Town Advisory Council
CATEGORIES:MEETING
END:VEVENT
END:VCALENDAR
