BEGIN:VCALENDAR
PRODID:-//Microsoft Corporation//Outlook MIMEDIR//EN
VERSION:2.0
METHOD:PUBLISH
BEGIN:VEVENT
DTSTART:20260427T190000
DTEND:20260427T200000
DESCRIPTION:
LOCATION:Round Hill Country Club - 3169 Round Hill, Alamo
SUMMARY:County Service Area P-5 (Roundhill) Citizens Advisory Committee
CATEGORIES:MEETING
END:VEVENT
END:VCALENDAR
