BEGIN:VCALENDAR
PRODID:-//Microsoft Corporation//Outlook MIMEDIR//EN
VERSION:2.0
METHOD:PUBLISH
BEGIN:VEVENT
DTSTART:20260506T180000
DTEND:20260506T190000
DESCRIPTION:Executive Subcommittee Meeting
LOCATION:
SUMMARY:Head Start Policy Council
CATEGORIES:MEETING
END:VEVENT
END:VCALENDAR
