BEGIN:VCALENDAR
PRODID:-//Microsoft Corporation//Outlook MIMEDIR//EN
VERSION:2.0
METHOD:PUBLISH
BEGIN:VEVENT
DTSTART:20260422T183000
DTEND:20260422T193000
DESCRIPTION:Contra Costa County Planning Commission Meeting - CANCELED
LOCATION:30 Muir Road, Martinez
SUMMARY:Contra Costa County Planning Commission
CATEGORIES:MEETING
END:VEVENT
END:VCALENDAR
