BEGIN:VCALENDAR
PRODID:-//Microsoft Corporation//Outlook MIMEDIR//EN
VERSION:2.0
METHOD:PUBLISH
BEGIN:VEVENT
DTSTART:20260416T110000
DTEND:20260416T120000
DESCRIPTION:CAB Programs & Services Subcommittee Meeting
LOCATION:50 Douglas Dr., Martinez |  https://us06web.zoom.us/j/84706790338|  Webinar ID: 847 0679 0338
SUMMARY:Community Advisory Board on Public Safety
CATEGORIES:MEETING
END:VEVENT
END:VCALENDAR
