BEGIN:VCALENDAR
PRODID:-//Microsoft Corporation//Outlook MIMEDIR//EN
VERSION:2.0
METHOD:PUBLISH
BEGIN:VEVENT
DTSTART:20260423T100000
DTEND:20260423T110000
DESCRIPTION:Decision-Making Subcommittee
LOCATION:2380 Bisso Lane, Concord https://zoom.us/j/97982014544 Call in: (669) 900-6833  Meeting ID: 97982014544
SUMMARY:Integrated Pest Management Advisory Committee
CATEGORIES:MEETING
END:VEVENT
END:VCALENDAR
