BEGIN:VCALENDAR
PRODID:-//Microsoft Corporation//Outlook MIMEDIR//EN
VERSION:2.0
METHOD:PUBLISH
BEGIN:VEVENT
DTSTART:20260428T110000
DTEND:20260428T120000
DESCRIPTION:CAB Outreach & Community Engagement Subcommittee Meeting
LOCATION:50 Douglas Dr., Martinez |  https://us06web.zoom.us/j/88968630544|  Webinar ID: 889 6863 0544
SUMMARY:Community Advisory Board on Public Safety
CATEGORIES:MEETING
END:VEVENT
END:VCALENDAR
