BEGIN:VCALENDAR
PRODID:-//Microsoft Corporation//Outlook MIMEDIR//EN
VERSION:2.0
METHOD:PUBLISH
BEGIN:VEVENT
DTSTART:20260507T130000
DTEND:20260507T140000
DESCRIPTION:
LOCATION:1026 Escobar Street, #238/239, Martinez, CA 94553
SUMMARY:Racial Justice Oversight Body
CATEGORIES:MEETING
END:VEVENT
END:VCALENDAR
