BEGIN:VCALENDAR
PRODID:-//Microsoft Corporation//Outlook MIMEDIR//EN
VERSION:2.0
METHOD:PUBLISH
BEGIN:VEVENT
DTSTART:20260415T160000
DTEND:20260415T170000
DESCRIPTION:Planning and Policy Committee
LOCATION:777 Arnold Dr., Martinez, CA 94553 -  Paramount Room https://cchealth.zoom.us/j/98031936341 Meeting ID: 980 3193 6341
SUMMARY:Hazardous Materials Commission
CATEGORIES:MEETING
END:VEVENT
END:VCALENDAR
