BEGIN:VCALENDAR
PRODID:-//Microsoft Corporation//Outlook MIMEDIR//EN
VERSION:2.0
METHOD:PUBLISH
BEGIN:VEVENT
DTSTART:20260423T140000
DTEND:20260423T150000
DESCRIPTION:Join from PC, Mac, iPad, or Android: https://cccounty-us.zoom.us/j/85114650039  | Dial: 1-855-758-1310 US Toll Free |  Webinar ID: 851 1465 0039
LOCATION:**REVISED**  || SPECIAL MEETING ||  30 Muir Road, Martinez, CA 94553 | Zoning Administrator (ZA) Room |
SUMMARY:Countywide Oversight Board
CATEGORIES:MEETING
END:VEVENT
END:VCALENDAR
