BEGIN:VCALENDAR
PRODID:-//Microsoft Corporation//Outlook MIMEDIR//EN
VERSION:2.0
METHOD:PUBLISH
BEGIN:VEVENT
DTSTART:20260429T130000
DTEND:20260429T140000
DESCRIPTION:Join from PC, Mac, iPad, or Android: https://cccounty-us.zoom.us/j/89439430430  Webinar ID: 894 3943 0430  Phone one-tap: +1408-961-3928,,89439430430# US +1408-961-3929,,89439430430# US
LOCATION:Zoning Administrator Room 30 Muir Road, Martinez CA 94553
SUMMARY:Affordable Housing Finance Committee
CATEGORIES:MEETING
END:VEVENT
END:VCALENDAR
