BEGIN:VCALENDAR
PRODID:-//Microsoft Corporation//Outlook MIMEDIR//EN
VERSION:2.0
METHOD:PUBLISH
BEGIN:VEVENT
DTSTART:20260505T180000
DTEND:20260505T190000
DESCRIPTION:
LOCATION:Alamo Women"s Club - 1401 Danville Blvd., Alamo
SUMMARY:Alamo Municipal Advisory Council
CATEGORIES:MEETING
END:VEVENT
END:VCALENDAR
