BEGIN:VCALENDAR
PRODID:-//Microsoft Corporation//Outlook MIMEDIR//EN
VERSION:2.0
METHOD:PUBLISH
BEGIN:VEVENT
DTSTART:20260512T170000
DTEND:20260512T180000
DESCRIPTION:
LOCATION:Los Medanos Conference Room 2311 Loveridge Rd. Pittsburg, CA 94565 ZOOM Link: https://us02web.zoom.us/j/82859010573
SUMMARY:Los Medanos Health Advisory Committee
CATEGORIES:MEETING
END:VEVENT
END:VCALENDAR
