BEGIN:VCALENDAR
PRODID:-//Microsoft Corporation//Outlook MIMEDIR//EN
VERSION:2.0
METHOD:PUBLISH
BEGIN:VEVENT
DTSTART:20260415T100000
DTEND:20260415T110000
DESCRIPTION:ACOA General Meeting https://cccounty-us.zoom.us/j/84280794921
LOCATION:500 Ellinwood Way, Pleasant Hill, CA. Boardroom
SUMMARY:Advisory Council on Aging
CATEGORIES:MEETING
END:VEVENT
END:VCALENDAR
