BEGIN:VCALENDAR
PRODID:-//Microsoft Corporation//Outlook MIMEDIR//EN
VERSION:2.0
METHOD:PUBLISH
BEGIN:VEVENT
DTSTART:20260422T100000
DTEND:20260422T110000
DESCRIPTION:
LOCATION:1025 Escobar St., Martinez | https://cchealth.zoom.us/j/96433584883?pwd=bEtCdk9wM0NyZHFVaVl0N3U3Rm1mQT09 | Call in: (646) 518-9805, meeting ID 964 3358 4883, password 872892
SUMMARY:Developmental Disabilities Council
CATEGORIES:MEETING
END:VEVENT
END:VCALENDAR
