BEGIN:VCALENDAR
PRODID:-//Microsoft Corporation//Outlook MIMEDIR//EN
VERSION:2.0
METHOD:PUBLISH
BEGIN:VEVENT
DTSTART:20260512T130000
DTEND:20260512T140000
DESCRIPTION:
LOCATION:Administration Building 1025 Escobar Street, Martinez | https://cccounty-us.zoom.us/j/81863939331 | Call in: 1 855-758-1310.
SUMMARY:FIRE PROTECTION DISTRICT
CATEGORIES:MEETING
END:VEVENT
END:VCALENDAR
