BEGIN:VCALENDAR
PRODID:-//Microsoft Corporation//Outlook MIMEDIR//EN
VERSION:2.0
METHOD:PUBLISH
BEGIN:VEVENT
DTSTART:20260430T090000
DTEND:20260430T100000
DESCRIPTION:
LOCATION:777 Arnold Dr., Martinez, CA 94553 -  Paramount Room 11780 San Pablo Avenue, Suite D  El Cerrito, CA 94530  190 East 4th Street,  Pittsburg, CA 94565 https://zoom.us/j/92940847225
SUMMARY:Industrial Safety Ordinance/Comm Warning System Ad Hoc Committee
CATEGORIES:MEETING
END:VEVENT
END:VCALENDAR
