BEGIN:VCALENDAR
PRODID:-//Microsoft Corporation//Outlook MIMEDIR//EN
VERSION:2.0
METHOD:PUBLISH
BEGIN:VEVENT
DTSTART:20260427T103000
DTEND:20260427T113000
DESCRIPTION:CANCELED Next meeting scheduled for May 26, 2026 at 10:30am
LOCATION:309 Diablo Rd, Danville | 3361 Walnut Blvd, Suite 140,Brentwood | https://cccounty-us.zoom.us/j/81079842919 Call in:  (888) 278-0254, Conference code: 845965
SUMMARY:Internal Operations Committee
CATEGORIES:MEETING
END:VEVENT
END:VCALENDAR
