BEGIN:VCALENDAR
PRODID:-//Microsoft Corporation//Outlook MIMEDIR//EN
VERSION:2.0
METHOD:PUBLISH
BEGIN:VEVENT
DTSTART:20260422T150000
DTEND:20260422T160000
DESCRIPTION:Data subcommittee
LOCATION:1026 Escobar Street, 238/239, Martinez, CA 94553 | https://cccounty-us.zoom.us/j/87301822275 | Call-In: 214 765 0478 Dial: 2188046
SUMMARY:Racial Justice Oversight Body
CATEGORIES:MEETING
END:VEVENT
END:VCALENDAR
