BEGIN:VCALENDAR
PRODID:-//Microsoft Corporation//Outlook MIMEDIR//EN
VERSION:2.0
METHOD:PUBLISH
BEGIN:VEVENT
DTSTART:20260415T153000
DTEND:20260415T163000
DESCRIPTION:https://prob-cccounty-us.zoom.us/j/89698809741
LOCATION:50 Douglas Dr., 2nd Fl. Martinez   Passcode:938848   Webinar ID: 896 9880 9741 Call In: +1 669 900 6833
SUMMARY:Juvenile Justice Coordinating Council
CATEGORIES:MEETING
END:VEVENT
END:VCALENDAR
