BEGIN:VCALENDAR
PRODID:-//Microsoft Corporation//Outlook MIMEDIR//EN
VERSION:2.0
METHOD:PUBLISH
BEGIN:VEVENT
DTSTART:20260420T100000
DTEND:20260420T110000
DESCRIPTION:Housing Committee https://cccounty-us.zoom.us/j/81296954794
LOCATION:500 Ellinwood Way, Pleasant Hill, CA.  Classroom
SUMMARY:Advisory Council on Aging
CATEGORIES:MEETING
END:VEVENT
END:VCALENDAR
