BEGIN:VCALENDAR
PRODID:-//Microsoft Corporation//Outlook MIMEDIR//EN
VERSION:2.0
METHOD:PUBLISH
BEGIN:VEVENT
DTSTART:20260416T150000
DTEND:20260416T160000
DESCRIPTION:Proposition 47 Local Advisory Committee of the Holistic Intervention Partnership - CANCELED
LOCATION:https://us06web.zoom.us/j/3406348371 | Call in: 669-444-9171 / Meeting ID: 340 634 8371 access code 211795
SUMMARY:Local Advisory Committee of the Holistic Intervention Partnership
CATEGORIES:MEETING
END:VEVENT
END:VCALENDAR
