BEGIN:VCALENDAR
PRODID:-//Microsoft Corporation//Outlook MIMEDIR//EN
VERSION:2.0
METHOD:PUBLISH
BEGIN:VEVENT
DTSTART:20260428T143000
DTEND:20260428T153000
DESCRIPTION:Funding Committee Work Group
LOCATION:Zoom only: https://homebaseccc.zoom.us/meeting/register/dZ3KHOTHTY-pAFqHaGwFFA#/registration
SUMMARY:Contra Costa Council on Homelessness
CATEGORIES:MEETING
END:VEVENT
END:VCALENDAR
