BEGIN:VCALENDAR
PRODID:-//Microsoft Corporation//Outlook MIMEDIR//EN
VERSION:2.0
METHOD:PUBLISH
BEGIN:VEVENT
DTSTART:20260420T103000
DTEND:20260420T113000
DESCRIPTION:
LOCATION:1026 Escobar Street, #238/239, Martinez, CA 94553 | https://cccounty-us.zoom.us/j/82659107572  Call in: 888-278-0254, Access code: 544753
SUMMARY:Equity Committee
CATEGORIES:MEETING
END:VEVENT
END:VCALENDAR
