BEGIN:VCALENDAR
PRODID:-//Microsoft Corporation//Outlook MIMEDIR//EN
VERSION:2.0
METHOD:PUBLISH
BEGIN:VEVENT
DTSTART:20260413T173000
DTEND:20260413T183000
DESCRIPTION:
LOCATION:1025 Escobar Street #110, Martinez, CA 94553 | 3650 Mt. Diablo Blvd, Ste 180 in Lafayette, CA 94549 | Contra Costa College 2600 Mission Bell Drive San Pablo, CA 94806 | https://cccounty-us.zoom.us/s/82896176897, Dial in: 1-408-961-3929, 82896176897#
SUMMARY:Transitional Community Advisory Board
CATEGORIES:MEETING
END:VEVENT
END:VCALENDAR
