BEGIN:VCALENDAR
PRODID:-//Microsoft Corporation//Outlook MIMEDIR//EN
VERSION:2.0
METHOD:PUBLISH
BEGIN:VEVENT
DTSTART:20260428T180000
DTEND:20260428T190000
DESCRIPTION:
LOCATION:St. Anne Church, 2800 Camino Diablo, Byron, CA 94514
SUMMARY:Byron Municipal Advisory Council
CATEGORIES:MEETING
END:VEVENT
END:VCALENDAR
