BEGIN:VCALENDAR
PRODID:-//Microsoft Corporation//Outlook MIMEDIR//EN
VERSION:2.0
METHOD:PUBLISH
BEGIN:VEVENT
DTSTART:20260519T190000
DTEND:20260519T200000
DESCRIPTION:
LOCATION:Knightsen Farm Bureau, 3020 Second Street, Knightsen, CA 94548
SUMMARY:Knightsen Town Advisory Council
CATEGORIES:MEETING
END:VEVENT
END:VCALENDAR
