BEGIN:VCALENDAR
PRODID:-//Microsoft Corporation//Outlook MIMEDIR//EN
VERSION:2.0
METHOD:PUBLISH
BEGIN:VEVENT
DTSTART:20260521T180000
DTEND:20260521T190000
DESCRIPTION:
LOCATION:1025 Escobar St., Room 110 Martinez, CA  2229 Ptarmigan Dr. #1 Walnut Creek, CA  Zoom: https://zoom.us/j/99019817954?pwd=Ig6i65bDmwMeoIR8SsAS9lAaG9I1nH.1   Webinar ID: 990 1981 7954 Passcode: 228815
SUMMARY:Library Commission
CATEGORIES:MEETING
END:VEVENT
END:VCALENDAR
