BEGIN:VCALENDAR
PRODID:-//Microsoft Corporation//Outlook MIMEDIR//EN
VERSION:2.0
METHOD:PUBLISH
BEGIN:VEVENT
DTSTART:20260512T180000
DTEND:20260512T190000
DESCRIPTION:
LOCATION:Blackhawk Country Club Lakeside Clubhouse, 599 Lakeside Drive, Danville | https://cccounty-us.zoom.us/j/82852660717
SUMMARY:County Service Area P-2A (Blackhawk) Citizens Advisory Committee
CATEGORIES:MEETING
END:VEVENT
END:VCALENDAR
