BEGIN:VCALENDAR
PRODID:-//Microsoft Corporation//Outlook MIMEDIR//EN
VERSION:2.0
METHOD:PUBLISH
BEGIN:VEVENT
DTSTART:20260518T130000
DTEND:20260518T140000
DESCRIPTION:
LOCATION:309 Diablo Road, Danville, CA 94526 | 2255 Contra Costa Blvd. Suite 202, Pleasant Hill, CA 94523 https://cccounty-us.zoom.us/j/85255422055 | Call in: 888 278 0254 | Conference code: 985922
SUMMARY:Public Protection Committee
CATEGORIES:MEETING
END:VEVENT
END:VCALENDAR
