BEGIN:VCALENDAR
PRODID:-//Microsoft Corporation//Outlook MIMEDIR//EN
VERSION:2.0
METHOD:PUBLISH
BEGIN:VEVENT
DTSTART:20260608T090000
DTEND:20260608T100000
DESCRIPTION:Join from PC, Mac, iPad, or Android: https://cccounty-us.zoom.us/j/87184439549  | Dial: 1-855-758-1310 US Toll Free |  Webinar ID: 871 8443 9549
LOCATION:District 1 Office: 11780 San Pablo Ave.  Suite D, El Cerrito, CA 94530 |   District 3 Office: 3361 Walnut Blvd.  Suite 140, Brentwood, CA 94513
SUMMARY:Contra Costa Resilient Shoreline Committee
CATEGORIES:MEETING
END:VEVENT
END:VCALENDAR
