BEGIN:VCALENDAR
PRODID:-//Microsoft Corporation//Outlook MIMEDIR//EN
VERSION:2.0
METHOD:PUBLISH
BEGIN:VEVENT
DTSTART:20260423T190000
DTEND:20260423T200000
DESCRIPTION:
LOCATION:Rodeo Senior Center- 189 Parker Avenue, Rodeo, CA
SUMMARY:Rodeo Municipal Advisory Council
CATEGORIES:MEETING
END:VEVENT
END:VCALENDAR
