BEGIN:VCALENDAR
PRODID:-//Microsoft Corporation//Outlook MIMEDIR//EN
VERSION:2.0
METHOD:PUBLISH
BEGIN:VEVENT
DTSTART:20260602T110000
DTEND:20260602T120000
DESCRIPTION:
LOCATION:777 Arnold Drive, 1st Floor, Paramount Room, Martinez | https://cchealth.zoom.us/j/99007186134 | Call in: 646-518-9805
SUMMARY:Emergency Medical Care Committee
CATEGORIES:MEETING
END:VEVENT
END:VCALENDAR
