BEGIN:VCALENDAR
PRODID:-//Microsoft Corporation//Outlook MIMEDIR//EN
VERSION:2.0
METHOD:PUBLISH
BEGIN:VEVENT
DTSTART:20260420T110000
DTEND:20260420T120000
DESCRIPTION:CAB Policy & Budget Subcommittee Meeting - CANCELED  Next meeting scheduled for Monday, June 15, 2026, at 11 a.m.
LOCATION:50 Douglas Dr., Martinez | https://us06web.zoom.us/j/82787248693 | Webinar ID: 827 8724 8693 |
SUMMARY:Community Advisory Board on Public Safety
CATEGORIES:MEETING
END:VEVENT
END:VCALENDAR
