BEGIN:VCALENDAR
PRODID:-//Microsoft Corporation//Outlook MIMEDIR//EN
VERSION:2.0
METHOD:PUBLISH
BEGIN:VEVENT
DTSTART:20260520T120000
DTEND:20260520T130000
DESCRIPTION:Business & Economic Development Committee
LOCATION:4071 Port Chicago Hwy., #200 Federal Glover Conference Room, Concord Zoom Meeting ID: 831 0968 3534 Zoom: https://us06web.zoom.us/j/83109683534
SUMMARY:Workforce Development Board
CATEGORIES:MEETING
END:VEVENT
END:VCALENDAR
