BEGIN:VCALENDAR
PRODID:-//Microsoft Corporation//Outlook MIMEDIR//EN
VERSION:2.0
METHOD:PUBLISH
BEGIN:VEVENT
DTSTART:20260416T113000
DTEND:20260416T123000
DESCRIPTION:Oversight Committee Working Group
LOCATION:VIRTUAL Only: https://homebaseccc.zoom.us/meeting/register/ZPCubvY7RNihEWuJOeusFg#/registration
SUMMARY:Contra Costa Council on Homelessness
CATEGORIES:MEETING
END:VEVENT
END:VCALENDAR
