BEGIN:VCALENDAR
PRODID:-//Microsoft Corporation//Outlook MIMEDIR//EN
VERSION:2.0
METHOD:PUBLISH
BEGIN:VEVENT
DTSTART:20260521T190000
DTEND:20260521T200000
DESCRIPTION:
LOCATION:30 Muir Rd., Martinez | https://cccounty-us.zoom.us/j/81035802133 | Call in: (855) 758-1310 access code 810 3580 2133
SUMMARY:Airport Land Use Commission
CATEGORIES:MEETING
END:VEVENT
END:VCALENDAR
